BEGIN:VCALENDAR
VERSION:2.0
CALSCALE:GREGORIAN
PRODID:-//MyApp//Calendar 1.0//EN
BEGIN:VEVENT
METHOD:PUBLISH
UID:41843@regionalniportaly.cz
DTSTAMP:20260423T105232Z
DTSTART;VALUE=DATE:20240824
DTEND;VALUE=DATE:20240825
SUMMARY:Koncert Jana Jareše na Konopišti
DESCRIPTION:Jan Jareš\, zpěvák s podmanivým hlasem\, brilantní klavírista\, laureát Výroční ceny Legenda nočního proudu. A také jediný nevidomý absolvent Pražské konzervatoře v novodobé historii této prestižní školy. Jeho vystoupení přinášejí ojedinělý hudební zážitek ve spojení s inspirujícím životním příběhem.\nV působivé souhře se saxofonem Romana Fojtíčka\, uměleckého vedoucího Českého saxofonového kvarteta\, a s kontrabasem Marka Lustiga\, člena Pražských symfoniků\, uslyšíte úspěšné písně z Janova repertoáru včetně hitparádové jedničky Doktor duší\, stejně jako známé skladby české i světové populární hudby.
LOCATION:Benešov
END:VEVENT
END:VCALENDAR