BEGIN:VCALENDAR
VERSION:2.0
CALSCALE:GREGORIAN
PRODID:-//MyApp//Calendar 1.0//EN
BEGIN:VEVENT
METHOD:PUBLISH
UID:41982@regionalniportaly.cz
DTSTAMP:20260423T083521Z
DTSTART;VALUE=DATE:20240822
DTEND;VALUE=DATE:20240823
SUMMARY:Úča musí pryč / Letní kino Neratovice
DESCRIPTION:David Prachař\, Linda Rybová a Igor Chmela v hlavních rolích!&nbsp\;Dynamická komedie s překvapivými dějovými zvraty a brilantním slovním humorem\, dotýkající se problému\, který znají všichni rodiče\, totiž základní školy.Hra se odehrává na podzim v 5. třídě základní školy\, kde se sešlo pět rodičů dětí a očekávají jejich třídní učitelku. Emoce vřou\, v prvním pololetí se známky dětí rapidně zhoršily\, atmosféra ve třídě je špatná\, navíc čekají děti po pololetí přestupové zkoušky na osmiletá gymnázia. Kdo za známky nese zodpovědnost? Samozřejmě učitelka! A proto je nutné ji ihned odvolat.Učitelka však nedává svoji kůži zadarmo - nastaví rodičům zrcadlo a ukazuje se\, že jejich děti jsou různým způsobem problémové a zdrojem nepokojů ve třídě.&nbsp\;Hrají: David Prachař / Petr Lněnička\, Linda Rybová\, Igor Chmela\, Petra Špalková\, Jana Janěková ml a Kristýna Frejová
LOCATION:Neratovice
END:VEVENT
END:VCALENDAR