BEGIN:VCALENDAR
VERSION:2.0
CALSCALE:GREGORIAN
PRODID:-//MyApp//Calendar 1.0//EN
BEGIN:VEVENT
METHOD:PUBLISH
UID:42222@regionalniportaly.cz
DTSTAMP:20260423T005933Z
DTSTART;VALUE=DATE:20240526
DTEND;VALUE=DATE:20240527
SUMMARY:Přednáška: Legenda jménem Tyranosaurus rex
DESCRIPTION:
LOCATION:Říčany
END:VEVENT
END:VCALENDAR