BEGIN:VCALENDAR
VERSION:2.0
CALSCALE:GREGORIAN
PRODID:-//MyApp//Calendar 1.0//EN
BEGIN:VEVENT
METHOD:PUBLISH
UID:42227@regionalniportaly.cz
DTSTAMP:20260423T064759Z
DTSTART;VALUE=DATE:20240725
DTEND;VALUE=DATE:20240726
SUMMARY:Aneta Langerová: Zázračná písně krajina 20 LET
DESCRIPTION:
LOCATION:Říčany
END:VEVENT
END:VCALENDAR