BEGIN:VCALENDAR
VERSION:2.0
CALSCALE:GREGORIAN
PRODID:-//MyApp//Calendar 1.0//EN
BEGIN:VEVENT
METHOD:PUBLISH
UID:42229@regionalniportaly.cz
DTSTAMP:20260423T033115Z
DTSTART;VALUE=DATE:20240523
DTEND;VALUE=DATE:20240524
SUMMARY:Minipárty s Karlem Šípem
DESCRIPTION:
LOCATION:Říčany
END:VEVENT
END:VCALENDAR