BEGIN:VCALENDAR
VERSION:2.0
CALSCALE:GREGORIAN
PRODID:-//MyApp//Calendar 1.0//EN
BEGIN:VEVENT
METHOD:PUBLISH
UID:42230@regionalniportaly.cz
DTSTAMP:20260423T010731Z
DTSTART;VALUE=DATE:20240528
DTEND;VALUE=DATE:20240529
SUMMARY:Slavnostní koncert Říčanského komorního orchestru
DESCRIPTION:
LOCATION:Říčany
END:VEVENT
END:VCALENDAR