BEGIN:VCALENDAR
VERSION:2.0
CALSCALE:GREGORIAN
PRODID:-//MyApp//Calendar 1.0//EN
BEGIN:VEVENT
METHOD:PUBLISH
UID:42233@regionalniportaly.cz
DTSTAMP:20260423T021404Z
DTSTART;VALUE=DATE:20240605
DTEND;VALUE=DATE:20240606
SUMMARY:Laco Deczi + Celula NEW YORK
DESCRIPTION:
LOCATION:Říčany
END:VEVENT
END:VCALENDAR