BEGIN:VCALENDAR
VERSION:2.0
CALSCALE:GREGORIAN
PRODID:-//MyApp//Calendar 1.0//EN
BEGIN:VEVENT
METHOD:PUBLISH
UID:42234@regionalniportaly.cz
DTSTAMP:20260423T024027Z
DTSTART;VALUE=DATE:20240614
DTEND;VALUE=DATE:20240615
SUMMARY:Ba(ROCK)o na Jurečku „Od Vivaldiho k Led Zeppelin“ – Bacha na Šporcla
DESCRIPTION:
LOCATION:Říčany
END:VEVENT
END:VCALENDAR