BEGIN:VCALENDAR
VERSION:2.0
CALSCALE:GREGORIAN
PRODID:-//MyApp//Calendar 1.0//EN
BEGIN:VEVENT
METHOD:PUBLISH
UID:42235@regionalniportaly.cz
DTSTAMP:20260423T034126Z
DTSTART;VALUE=DATE:20240615
DTEND;VALUE=DATE:20240616
SUMMARY:Ba(ROCK)o na Jurečku „Od Vivaldiho k Led Zeppelin“ – Pavel Šporcl: Feeling Good
DESCRIPTION:
LOCATION:Říčany
END:VEVENT
END:VCALENDAR