BEGIN:VCALENDAR
VERSION:2.0
CALSCALE:GREGORIAN
PRODID:-//MyApp//Calendar 1.0//EN
BEGIN:VEVENT
METHOD:PUBLISH
UID:42237@regionalniportaly.cz
DTSTAMP:20260423T035103Z
DTSTART;VALUE=DATE:20240703
DTEND;VALUE=DATE:20240704
SUMMARY:Gerald Clark
DESCRIPTION:
LOCATION:Říčany
END:VEVENT
END:VCALENDAR