BEGIN:VCALENDAR
VERSION:2.0
CALSCALE:GREGORIAN
PRODID:-//MyApp//Calendar 1.0//EN
BEGIN:VEVENT
METHOD:PUBLISH
UID:42238@regionalniportaly.cz
DTSTAMP:20260423T063354Z
DTSTART;VALUE=DATE:20240724
DTEND;VALUE=DATE:20240725
SUMMARY:Ivan Hlas Trio
DESCRIPTION:
LOCATION:Říčany
END:VEVENT
END:VCALENDAR