BEGIN:VCALENDAR
VERSION:2.0
CALSCALE:GREGORIAN
PRODID:-//MyApp//Calendar 1.0//EN
BEGIN:VEVENT
METHOD:PUBLISH
UID:42274@regionalniportaly.cz
DTSTAMP:20260423T093426Z
DTSTART;VALUE=DATE:20240902
DTEND;VALUE=DATE:20240903
SUMMARY:Pokáč - Klub Loděnice
DESCRIPTION:
LOCATION:Benátky nad Jizerou
END:VEVENT
END:VCALENDAR