BEGIN:VCALENDAR
VERSION:2.0
CALSCALE:GREGORIAN
PRODID:-//MyApp//Calendar 1.0//EN
BEGIN:VEVENT
METHOD:PUBLISH
UID:42285@regionalniportaly.cz
DTSTAMP:20260423T005856Z
DTSTART;VALUE=DATE:20240512
DTEND;VALUE=DATE:20240513
SUMMARY:Jaro Josefa Suka - sborový koncert
DESCRIPTION:
LOCATION:Benešov
END:VEVENT
END:VCALENDAR