BEGIN:VCALENDAR
VERSION:2.0
CALSCALE:GREGORIAN
PRODID:-//MyApp//Calendar 1.0//EN
BEGIN:VEVENT
METHOD:PUBLISH
UID:42566@regionalniportaly.cz
DTSTAMP:20260423T010751Z
DTSTART;VALUE=DATE:20240519
DTEND;VALUE=DATE:20240520
SUMMARY:Dobré jídlo světa Street food piknik Konopiště
DESCRIPTION:Street Food Piknik Konopiště 2024: Gurmánský zážitek v srdci historie!Připravte se na piknik snů pod majestátním zámkem Konopiště!V malebném amfiteátru se snoubí lahodná gastronomie z celého světa s jedinečnou atmosférou a bohatým programem.Otevřete bránu do světa chutí:* Ochutnejte speciality z rukou zkušených street food kuchařů.* Nechte se zlákat exotickými vůněmi a pestrou paletou chutí.* Objevte nová jídla a potěšte své chuťové pohárky.* Více než jen piknik:Nenechte si ujít koncerty a živou hudbu.Zapojte se do zábavných soutěží a užijte si den plný smíchu.Pohádka pro nejmenší rozzáří úsměv na tváři vašim ratolestem.Rozprostřete deku\, nasaďte sluneční brýle a pozvěte své nejbližší.Street Food Piknik Konopiště 2024.
LOCATION:Benešov
END:VEVENT
END:VCALENDAR