BEGIN:VCALENDAR
VERSION:2.0
CALSCALE:GREGORIAN
PRODID:-//MyApp//Calendar 1.0//EN
BEGIN:VEVENT
METHOD:PUBLISH
UID:42800@regionalniportaly.cz
DTSTAMP:20260423T033939Z
DTSTART;VALUE=DATE:20240614
DTEND;VALUE=DATE:20240615
SUMMARY:Poutníci
DESCRIPTION:Hudební skupina Poutníci\, která v&nbsp\;roce 2020 slavila 50 let od svého vzniku\, jezdí v&nbsp\;současnosti s&nbsp\;pořadem\, jenž se jmenuje \,\,Přes 50 let v&nbsp\;country.“ &nbsp\;Tento pořad odehraje kapela s bendžistou Petrem Voštou\, zpěvákem Jakubem Bílým. To jsou ti mladší současní Poutníci. Ti starší současníci jsou Jan Máca\, mandolína a zpěv a Jiří Pola – Karas\, hráč na elektrický kontrabas\, zpěvák a kapelník. Soubor vydal za dobu svojí činnosti 16 CD nebo LP\, poslední nosič si kapela produkovala sama a jmenuje se „ Stíny na střechách.“ Toto CD je složené z novinek\, jenž napsali sami současní poutničtí hudebníci. Jedinou výjimkou\, co se týče dlouhověkosti\, je úvodní píseň\, podle které se deska jmenuje. Texty k&nbsp\;většině těch nových skladeb napsal textař z&nbsp\;Trutnova – David Konopáč Program poutnického vystoupení je tvořen z písní ze zmíněného CD\, ale hlavně z poutnických hitů\, které se jmenují Panenka\, Pojďme se napít\, Hotel Hillary a řadou dalších\, dnes už se dá říct zlidovělých kusů. A právě tyto na vás budou čekat během koncertu.
LOCATION:Černošice
END:VEVENT
END:VCALENDAR