BEGIN:VCALENDAR
VERSION:2.0
CALSCALE:GREGORIAN
PRODID:-//MyApp//Calendar 1.0//EN
BEGIN:VEVENT
METHOD:PUBLISH
UID:42847@regionalniportaly.cz
DTSTAMP:20260424T101737Z
DTSTART;VALUE=DATE:20250514
DTEND;VALUE=DATE:20250515
SUMMARY:4 ROCKEŘI s operní pěvkyní
DESCRIPTION:PROŽIJTE SOUZNĚNÍ ROCKOVÝCH HLASŮ S OPERNÍMRepertoár tvoří originálně upravené světové a české hity\, převedené z jiných hudebních žánrů&nbsp\;do rockových aranží.Na koncertě například zazní:&nbsp\;Smetanova Vltava\, Back to Black\, Atlantida\, Fantom Opery\, Sweet Dreamsa mnoho dalších hitů v rockovém kabátě.Zpívají: Jiří Zonyga\, Milan Devinne\, Leona Šenková\, Lukáš Písařík a operní pěvkyně Monika SommerováTo vše naživo s doprovodem skvělých hudebníků naší populární scény.
LOCATION:Říčany
END:VEVENT
END:VCALENDAR