BEGIN:VCALENDAR
VERSION:2.0
CALSCALE:GREGORIAN
PRODID:-//MyApp//Calendar 1.0//EN
BEGIN:VEVENT
METHOD:PUBLISH
UID:43161@regionalniportaly.cz
DTSTAMP:20260423T034020Z
DTSTART;VALUE=DATE:20240615
DTEND;VALUE=DATE:20240616
SUMMARY:Historickým vlakem do Bechyně a na prohlídku Temelína
DESCRIPTION:Zvláštní jízda historického rychlíku z Prahy přes Tábor do Bechyně a zpět. Návazná autobusová doprava s garantovaným přestupem do Temelína a zpět.\nProhlídka informačního centra jaderné elektrárny Temelín s interaktivními exponáty. Zažijte ReakTour – virtuální tour až k reaktoru. Máte jedinečnou šanci prohlédnout si zblízka jaderný reaktor a zkusit si spustit regulační tyče až na jeho samé dno! Mlžná komora\, dětský koutek. Pořízení selfie na památku z reaktorového sálu. Zábava pro celou rodinu.\nProgram:\n- retro vlak s lokomotivou T478.1 “Bardotka” a přípojnými vozy “Balm”\,- jízda na první elektrifikovanou trať v Česku tzv. Bechyňku (Tábor – Slapy – Bechyně)\,- doprava autobusem z Bechyně do Temelína a zpět\,- návštěva infocentra jaderné elektrárny Temelín (zdarma)\,- občerstvení v bufetovém voze po celou dobu akce (není zahrnuto v ceně).\n \nJízdní řád R 91030 Praha – Bechyně – Temelín:VLAK: Praha hl.n. 8:35 – Praha-Zahradní Město 8:44 – Říčany 8:58 – Bechyně 11:30\nBUS: Bechyně 11:35 – Temelín 12:00\nJízdní řád R 91031 Temelín – Bechyně – Praha:BUS: Temelín 14:00 – Bechyně 14:30\nVLAK: Bechyně 16:25 – Říčany 19:13 –  Praha-Zahradní Město 19:29 – Praha hl.n. 19:39\n \nVíce informací a další akce naleznete na stránce výletní zážitkové vlaky.
LOCATION:Říčany
END:VEVENT
END:VCALENDAR