BEGIN:VCALENDAR
VERSION:2.0
CALSCALE:GREGORIAN
PRODID:-//MyApp//Calendar 1.0//EN
BEGIN:VEVENT
METHOD:PUBLISH
UID:43733@regionalniportaly.cz
DTSTAMP:20260423T093343Z
DTSTART;VALUE=DATE:20240910
DTEND;VALUE=DATE:20240911
SUMMARY:Šťastný vyvolený v Kralupech
DESCRIPTION:Manželé Greg a Melanie pozvali svého kamaráda Jeffa na večeři. Jeffova bývalá přítelkyně Charlie\, kterou pět let neviděl\, se má vdávat a za svědka si vybrala Melanii. Shodou okolností se Charlie se svým vyvoleným objeví na společné večeři. Charlie ho miluje\, ačkoliv své přátele předem varuje\, že je "trochu jiný".Jak moc jiný? Nechte se překvapit.Hraji: David Matásek\, Igor Chmela\, Matouš Ruml\, Linda Rybová\, Jana Janěková ml.&nbsp\;&nbsp\;
LOCATION:Kralupy nad Vltavou
END:VEVENT
END:VCALENDAR