BEGIN:VCALENDAR
VERSION:2.0
CALSCALE:GREGORIAN
PRODID:-//MyApp//Calendar 1.0//EN
BEGIN:VEVENT
METHOD:PUBLISH
UID:43821@regionalniportaly.cz
DTSTAMP:20260423T103512Z
DTSTART;VALUE=DATE:20240912
DTEND;VALUE=DATE:20240913
SUMMARY:Marie Tilšarová - Sváteční recitál
DESCRIPTION:Po velmi úspěšném prvním "Svátečním recitálu"&nbsp\; a Křtu alba Pošli to dál přichází Marie Tilšarová s dalším recitálem&nbsp\;na stejném místě - tedy v nedostavěném chrámu v Panenském Týnci.Přijďte nasát atmosféru písní autentické písničkářky do místa\, které je samo o sobě dosti magické.&nbsp\;Hostem tentorkát bude písničkářka Veronika Hajníková.www.veronikahajnikova.cz/Akce se bude konat za jakéhokoliv počasí. MOMENTÁLNĚ JSOU VYPRODÁNA VŠECHNA MÍSTA NA SEZENÍ\, VEZMĚTE SI S SEBOU PROSÍM TEDY SVOU ŽIDLIČKU ČI DEKU. DĚKUJI ZA POCHOPENÍ.Přečtěte si také "více informací".&nbsp\;
LOCATION:Panenský Týnec
END:VEVENT
END:VCALENDAR