BEGIN:VCALENDAR
VERSION:2.0
CALSCALE:GREGORIAN
PRODID:-//MyApp//Calendar 1.0//EN
BEGIN:VEVENT
METHOD:PUBLISH
UID:44072@regionalniportaly.cz
DTSTAMP:20260423T084355Z
DTSTART;VALUE=DATE:20240816
DTEND;VALUE=DATE:20240817
SUMMARY:Starák Fest 2024
DESCRIPTION:
LOCATION:Říčany
END:VEVENT
END:VCALENDAR