BEGIN:VCALENDAR
VERSION:2.0
CALSCALE:GREGORIAN
PRODID:-//MyApp//Calendar 1.0//EN
BEGIN:VEVENT
METHOD:PUBLISH
UID:44076@regionalniportaly.cz
DTSTAMP:20260423T051943Z
DTSTART;VALUE=DATE:20240717
DTEND;VALUE=DATE:20240718
SUMMARY:Alexandre Glize
DESCRIPTION:
LOCATION:Říčany
END:VEVENT
END:VCALENDAR