BEGIN:VCALENDAR
VERSION:2.0
CALSCALE:GREGORIAN
PRODID:-//MyApp//Calendar 1.0//EN
BEGIN:VEVENT
METHOD:PUBLISH
UID:44081@regionalniportaly.cz
DTSTAMP:20260423T105127Z
DTSTART;VALUE=DATE:20240917
DTEND;VALUE=DATE:20240918
SUMMARY:Tommy Scro (USA) s kapelou & Lord Bishop Rocks (USA)
DESCRIPTION:
LOCATION:Říčany
END:VEVENT
END:VCALENDAR