BEGIN:VCALENDAR
VERSION:2.0
CALSCALE:GREGORIAN
PRODID:-//MyApp//Calendar 1.0//EN
BEGIN:VEVENT
METHOD:PUBLISH
UID:44082@regionalniportaly.cz
DTSTAMP:20260423T104450Z
DTSTART;VALUE=DATE:20240918
DTEND;VALUE=DATE:20240919
SUMMARY:Kamelot & Roman Horký 60 tour 2024 Zaprášené diamanty
DESCRIPTION:
LOCATION:Říčany
END:VEVENT
END:VCALENDAR