BEGIN:VCALENDAR
VERSION:2.0
CALSCALE:GREGORIAN
PRODID:-//MyApp//Calendar 1.0//EN
BEGIN:VEVENT
METHOD:PUBLISH
UID:44083@regionalniportaly.cz
DTSTAMP:20260423T123800Z
DTSTART;VALUE=DATE:20240919
DTEND;VALUE=DATE:20240920
SUMMARY:Na kus řeči se sourozenci GONDÍKOVÝMI
DESCRIPTION:
LOCATION:Říčany
END:VEVENT
END:VCALENDAR