BEGIN:VCALENDAR
VERSION:2.0
CALSCALE:GREGORIAN
PRODID:-//MyApp//Calendar 1.0//EN
BEGIN:VEVENT
METHOD:PUBLISH
UID:44088@regionalniportaly.cz
DTSTAMP:20260423T132037Z
DTSTART;VALUE=DATE:20241010
DTEND;VALUE=DATE:20241011
SUMMARY:J.A.R – Jezus Kristus Neexistus?
DESCRIPTION:
LOCATION:Říčany
END:VEVENT
END:VCALENDAR