BEGIN:VCALENDAR
VERSION:2.0
CALSCALE:GREGORIAN
PRODID:-//MyApp//Calendar 1.0//EN
BEGIN:VEVENT
METHOD:PUBLISH
UID:44089@regionalniportaly.cz
DTSTAMP:20260423T180439Z
DTSTART;VALUE=DATE:20241112
DTEND;VALUE=DATE:20241113
SUMMARY:Kafe u Osmaniho
DESCRIPTION:
LOCATION:Říčany
END:VEVENT
END:VCALENDAR