BEGIN:VCALENDAR
VERSION:2.0
CALSCALE:GREGORIAN
PRODID:-//MyApp//Calendar 1.0//EN
BEGIN:VEVENT
METHOD:PUBLISH
UID:44090@regionalniportaly.cz
DTSTAMP:20260424T020332Z
DTSTART;VALUE=DATE:20250305
DTEND;VALUE=DATE:20250306
SUMMARY:Ondřej Havelka and his Melody Makers
DESCRIPTION:
LOCATION:Říčany
END:VEVENT
END:VCALENDAR