BEGIN:VCALENDAR
VERSION:2.0
CALSCALE:GREGORIAN
PRODID:-//MyApp//Calendar 1.0//EN
BEGIN:VEVENT
METHOD:PUBLISH
UID:44294@regionalniportaly.cz
DTSTAMP:20260423T052020Z
DTSTART;VALUE=DATE:20240713
DTEND;VALUE=DATE:20240714
SUMMARY:Divadelní léto | Romeo a Julie pod širým nebem
DESCRIPTION:Nejslavnější příběh lásky u zříceniny minoritského kláštera na Karlově... romantičtější už to být nemůže! Shakespeare do Benešova zavítá i letošní léto\, opět v podání skvělých OLDstars. Vstupenky nyní v předprodeji! Kdy: 13.7.2024 20:30\nKde: Muzeum umění a designu Benešov
LOCATION:Benešov
END:VEVENT
END:VCALENDAR