BEGIN:VCALENDAR
VERSION:2.0
CALSCALE:GREGORIAN
PRODID:-//MyApp//Calendar 1.0//EN
BEGIN:VEVENT
METHOD:PUBLISH
UID:44295@regionalniportaly.cz
DTSTAMP:20260423T052007Z
DTSTART;VALUE=DATE:20240717
DTEND;VALUE=DATE:20240718
SUMMARY:Koncert filmové hudby pod širým nebem
DESCRIPTION:Pražský filmový orchestr pod taktovkou dirigenta Jiřího Korynty přináší velkolepý koncert\, který představí v nezapomenutelné atmosféře prostor amfiteátru Konopiště při západu slunce. Kdy: 17.7.2024 19:00Kde: Přírodní amfiteátr Konopiště\, Benešov Diváci se mohou těšit na skladby z filmů Star Wars\, Pán Prstenů\, Games of Thrones\, Harry Potter\, Piráti z Karibiku a další známé melodie stříbrného plátna.Koncert bude bohatý na fantastickou filmovou hudbu od světově známých hudebních skladatelů\, jakými jsou např. John Williams\, Hans Zimmer\, Howard Shore nebo James Horner. 
LOCATION:Benešov
END:VEVENT
END:VCALENDAR