BEGIN:VCALENDAR
VERSION:2.0
CALSCALE:GREGORIAN
PRODID:-//MyApp//Calendar 1.0//EN
BEGIN:VEVENT
METHOD:PUBLISH
UID:44474@regionalniportaly.cz
DTSTAMP:20260423T081653Z
DTSTART;VALUE=DATE:20240810
DTEND;VALUE=DATE:20240811
SUMMARY:Zážitkový motoráček do Koněpruských jeskyní
DESCRIPTION:Koněpruské jeskyně nabízí chládek v každém ročním období. Navštivte v jeden den muzeum filmu Ostře sledované vlaky\, neveřejnou vlečku Velkolomu Čertovy schody a nejdelší jeskynní systém v Čechách. Vyrážíme z Kralup nad Vltavou motoráčkem řady 810 přezdívaným Orchestrion (vlak Sp 91420 odjezd v 8:35 h).\n\nProhlídka muzea filmu Ostře sledované vlaky ve stanici Loděnice.\nJízda po neveřejné železniční vlečce společnosti Velkolom Čertovy schody.\nPěší výlet po žluté turistické značce od Havlíčkova Mlýnu k Domu přírody Českého krasu.\nKomentovaná prohlídka Koněpruských jeskyní s místním průvodcem.\n
LOCATION:Kralupy nad Vltavou
END:VEVENT
END:VCALENDAR