BEGIN:VCALENDAR
VERSION:2.0
CALSCALE:GREGORIAN
PRODID:-//MyApp//Calendar 1.0//EN
BEGIN:VEVENT
METHOD:PUBLISH
UID:44674@regionalniportaly.cz
DTSTAMP:20260423T123638Z
DTSTART;VALUE=DATE:20240921
DTEND;VALUE=DATE:20240922
SUMMARY:Stand-up Comedy Show v Černošicích
DESCRIPTION:Nejste citlivky a chcete se pořádně zasmát?Baví vás humor drsný jako Chuck Norris v nejlepších letech?Pak jste tady správně!Zveme vás na pořádnou stand-up comedy show v Černošicích!Vystoupí pro vás hned čtveřice komiků:Vojtěch "Vojtaano" Záveský -&nbsp\;zkušený český stand-up komik\, kterého určitě znáte z legendární skupiny Na Stojáka. Jak je jeho zvykem\, rozhodně vás svými vtipy pošle do kolen!David Klouda&nbsp\;- Bývalý 160kilový cvalík\, který bůhvíproč nikdy nedělal sumo. I když hodně zhubnul\, stále je hrdým tlouštíkem a také o váze bude jeho stand-up.Pavel Hrdlička&nbsp\;- Pavel jako malý kudrnatý kluk vyprávěl sprostý vtipy už v deseti letech u ohně na táboře. Teď mu bude 40\, je plešatej\, má knír\, ale vtipy vypráví pořád.Karel Petrdlík&nbsp\;- Neřízená střela\, která nemluví jen ve chvíli\, kdy se nadechuje k dalšímu mluvení.&nbsp\;POČET LÍSTKŮ JE OMEZEN\, JE MOŽNÉ\, ŽE NA MÍSTĚ UŽ NEBUDOU K DOSTÁNÍ. Doporučujeme tedy koupit lístky v předprodeji.Těšíme se na vás a humoru zdar!!!
LOCATION:Černošice
END:VEVENT
END:VCALENDAR