BEGIN:VCALENDAR
VERSION:2.0
CALSCALE:GREGORIAN
PRODID:-//MyApp//Calendar 1.0//EN
BEGIN:VEVENT
METHOD:PUBLISH
UID:45078@regionalniportaly.cz
DTSTAMP:20260423T133313Z
DTSTART;VALUE=DATE:20241005
DTEND;VALUE=DATE:20241006
SUMMARY:Vinný košt s cimbálovkou
DESCRIPTION:2. ročník úspěšné akce ve Velvarské Záložně! Kousek Moravy ve středu Čech. Obrovský výběr vín\, čerstvý burčák\, cimbálová hudba\, krásná atmosféra...
LOCATION:Velvary
END:VEVENT
END:VCALENDAR