BEGIN:VCALENDAR
VERSION:2.0
CALSCALE:GREGORIAN
PRODID:-//MyApp//Calendar 1.0//EN
BEGIN:VEVENT
METHOD:PUBLISH
UID:45193@regionalniportaly.cz
DTSTAMP:20260423T211452Z
DTSTART;VALUE=DATE:20241217
DTEND;VALUE=DATE:20241218
SUMMARY:Grande Moravia - Kouzlo Vánoc
DESCRIPTION:Grande Moravia pokračuje i letos v tradici velmi oblíbených vánočních koncertů.Opět se diváci mohou těšit nejen na úžasný orchestr\, ale také na půvabné dívčí trio zpěvaček "Tři barvy" - Eliška Trtíková\, Mária Bikárová a Lucie Bikárová\, alt. Leona Klempárová. Můžete se těšit na výjimečný zážitek kouzelné vánoční atmosféry.
LOCATION:Benešov
END:VEVENT
END:VCALENDAR