BEGIN:VCALENDAR
VERSION:2.0
CALSCALE:GREGORIAN
PRODID:-//MyApp//Calendar 1.0//EN
BEGIN:VEVENT
METHOD:PUBLISH
UID:45357@regionalniportaly.cz
DTSTAMP:20260423T103215Z
DTSTART;VALUE=DATE:20240915
DTEND;VALUE=DATE:20240916
SUMMARY:Psychopathic Romantics (IT)
DESCRIPTION:Skupina Psychopathic Romantics vznikla v&nbsp\;roce 2005 a sídlí v&nbsp\;jižní Itálii. V&nbsp\;průběhu let odehrála stovky koncertů v&nbsp\;Itálii i v&nbsp\;zahraničí a do současnosti vydala tři alba. Hlavní osobností kapely je zpěvák\, kytarista a autor repertoáru Italo-Američan Mario „Dust“ La Porta. Repertoár skupiny je velmi různorodý\, od folku k&nbsp\;rocku a na jeho dotváření spolupracují i ostatní členové. V&nbsp\;současné době připravují svoje čtvrté album a v&nbsp\;rámci svého prvního českého turné zavítají i do Černošic. Kapelu tvoří: Mario „Dust“ La Porta – zpěv\, kytara\, Vincenzo Tancredi&nbsp\; - baskytara\, zpěv\,&nbsp\; Augusto De Cesare - kytara\, bouzouki\, mandolína\, zpěv\, perkuse a Filippo Santoiemma Jr. - kytary\, mandolína\, microKorg\, zpěv.\, perkuse. Srdečně Vás zveme v neděli 15.9. od 20.00 do Club Kina.
LOCATION:Černošice
END:VEVENT
END:VCALENDAR