BEGIN:VCALENDAR
VERSION:2.0
CALSCALE:GREGORIAN
PRODID:-//MyApp//Calendar 1.0//EN
BEGIN:VEVENT
METHOD:PUBLISH
UID:45360@regionalniportaly.cz
DTSTAMP:20260423T114555Z
DTSTART;VALUE=DATE:20240929
DTEND;VALUE=DATE:20240930
SUMMARY:The Jay Howie Trio (Austrálie)
DESCRIPTION:Z Melbourne pochází The Jay Howie Trio\, jedna z nejlepších australských bluesrockových part v čele s jedinečným Jayem Howiem\, umělcem\, jehož spojení s blues a rockem nabízí nefalšované emocionální uvolnění. Ovlivněn starými hráči delta blues\, chicagskou bluesovou scénou a britským blues konce 60. a 70. let\, kytarové finesy a syrový vokální projev s mimořádně silnými texty naplňují pověstný pohár dokonalosti. Trio výjimečných hudebníků nehraje jen hudbu\, vytvářejí elektrizující zážitek. Chemie mezi údernou rytmikou a skvělými kytarovými rify není nic menšího\, než fascinující živé vystoupení\, které nedá publiku vydechnout. Připravte se\, že jak The Jay Howie Trio vtrhne na pódium\, jsou tito chlapci pocházející až z Victorie připraveni vytvořit elektrizující atmosféru se svou charakteristickou směsí rocku a blues. Srdečně Vás zveme ve neděli 29.9. od 20.00 do Club Kina. Jay Howie má zcela jedinečný styl a je umělcem\, kterého by jste si neměli nechat ujít !
LOCATION:Černošice
END:VEVENT
END:VCALENDAR