BEGIN:VCALENDAR
VERSION:2.0
CALSCALE:GREGORIAN
PRODID:-//MyApp//Calendar 1.0//EN
BEGIN:VEVENT
METHOD:PUBLISH
UID:45361@regionalniportaly.cz
DTSTAMP:20260423T114627Z
DTSTART;VALUE=DATE:20240928
DTEND;VALUE=DATE:20240929
SUMMARY:Thomas Heppell Band (UK)
DESCRIPTION:Mladý\, nadějný britský bluesrockový skladatel\, zpěvák a kytarista. Kromě toho\, že má v Británii vlastní trio\, je stálým hostujícím členem The Catfish a Brave Rival na delších britských turné. V&nbsp\;jeho hudbě se najdou i prvky jazzu a rock &amp\; rollu Thomas získal opakované nominace na Britské bluesové ceny\, v roce 2024 v kategorii nový umělec\, o rok dříve dokonce nominace tři… Mladý\, krásný a šikovný to je zpěvák i kytarista. Thomas Heppell. S ním přijede osvědčená rytmika The Bladdestones čili Johnny Judl na basu a Míša Nosek na bicí. Srdečně Vás zveme v&nbsp\;sobotu 28.9. od 20.00 do Club Kina.
LOCATION:Černošice
END:VEVENT
END:VCALENDAR