BEGIN:VCALENDAR
VERSION:2.0
CALSCALE:GREGORIAN
PRODID:-//MyApp//Calendar 1.0//EN
BEGIN:VEVENT
METHOD:PUBLISH
UID:46209@regionalniportaly.cz
DTSTAMP:20260423T144302Z
DTSTART;VALUE=DATE:20241017
DTEND;VALUE=DATE:20241018
SUMMARY:Koncert k výročí Karla Kryla
DESCRIPTION:Kromě několika Krylových písní z jeho posledního období autorská tvorba jeho pokračovatelů zpěváků a kytaristů\, kteří poeticky a pravdivě zpívají o tom\, co kolem sebe vidí - Jorka z Hradce Králové a Radomíra Švece z Řevnic.Vstupné 200/100 Kč na smsticket.cz a 1/2 h před začátkem na místě. Koncert podpořili občané Černošic a Středočeský kraj.
LOCATION:Černošice
END:VEVENT
END:VCALENDAR