BEGIN:VCALENDAR
VERSION:2.0
CALSCALE:GREGORIAN
PRODID:-//MyApp//Calendar 1.0//EN
BEGIN:VEVENT
METHOD:PUBLISH
UID:46277@regionalniportaly.cz
DTSTAMP:20260423T143133Z
DTSTART;VALUE=DATE:20241012
DTEND;VALUE=DATE:20241013
SUMMARY:Acoustic Needles
DESCRIPTION:Acoustic Needles je mladý projekt\, který nabídne svěží zvuk a osobité kompozice\, u kterých se prolínají vlivy jazzu\, funku či hip hopu. Skladby jsou zajímavé nekonvenčními rytmy či harmoniemi. Kapelu tvoří muzikanti\, kteří prošli českými či zahraničními hudebními školami (Conservatorium van Amsterdam\, HAMU\, Konzervatoř a VOŠ Jaroslava Ježka\, Gymnázium a hudební škola hl. m. Prahy) Kapela natočila tři desky – Cycling\, Memory a 5.4\, kde zahostoval například kytarista Miroslav Chyška či klávesista Martin Brunner. Všechny desky jsou k&nbsp\;poslechu na všech streamovacích platformách\, některé (Train Station\, Ve tmě a tichu) můžete zhlédnout i s&nbsp\;klipem. Projekt se zúčastnil soutěže Jazz Fruit\, kde vyhrál v&nbsp\;roce 2022 kategorii Junior. Kapela hraje ve složení Emma Vyskočilová/Zaira – zpěv\, Lukáš Velemínský – kytara\, Jakub Eben – klávesy\, Jan Neruda – baskytara a Vojtěch Záhora – bicí. Srdečně Vás zveme v sobotu 12.10. od 20.00 do Club Kina
LOCATION:Černošice
END:VEVENT
END:VCALENDAR