BEGIN:VCALENDAR
VERSION:2.0
CALSCALE:GREGORIAN
PRODID:-//MyApp//Calendar 1.0//EN
BEGIN:VEVENT
METHOD:PUBLISH
UID:46278@regionalniportaly.cz
DTSTAMP:20260423T161025Z
DTSTART;VALUE=DATE:20241029
DTEND;VALUE=DATE:20241030
SUMMARY:Delta Fuse (IRL)
DESCRIPTION:Jack McHale – kytara a zpěv\, Liam Bradley – baskytara\, Sandy Aicken – bicíDelta Fuse je mladá\, ale velmi nadějná irská bluesrocková kapela. Jejich sound je částečně namočen do soulu a šedesátkové psychedelie. Kapela má za sebou množství koncertů v Irsku a čtyři rozsáhlá britská turné. Její debutové album se jmenuje „A Matter Of Love And War". Říkají o sobě\, že jejich písně jsou o lásce\, blues\, chlastu a sexu a Jack McHale svým zpěvem naznačuje\, že si potrpí na všechno. Prostě – drsná\, rychlá a hodně neklidná jízda! Blues teď v Británii zažívá obrovský boom a pokud někdo (konkrétně hyperpopulární bluesový kytarista Dom Martin) řekne\, že Delta Fuse jsou „budoucností blues“\, znamená to opravdu hodně. Tako kapela již v&nbsp\;Černošicích už jednou na jazzovém festivalu hrála a její vystoupení bylo strhující. Srdečně Vás zveme v úterý 29.10. od 20.00 do Club Kina.
LOCATION:Černošice
END:VEVENT
END:VCALENDAR