BEGIN:VCALENDAR
VERSION:2.0
CALSCALE:GREGORIAN
PRODID:-//MyApp//Calendar 1.0//EN
BEGIN:VEVENT
METHOD:PUBLISH
UID:46279@regionalniportaly.cz
DTSTAMP:20260423T160929Z
DTSTART;VALUE=DATE:20241108
DTEND;VALUE=DATE:20241109
SUMMARY:Vltava
DESCRIPTION:Kapela Vltava vystoupí v ČernošicíchVltava je jednou z nejosobitějších českých hudebních skupin a současně oblíbenou stálicí klubových i festivalových pódií. Pestré skladby plné obrazů a nakažlivé hudební energie spolehlivě zasahují posluchače všech generací!&nbsp\;Koncertní program se opírá o známé skladby kapelové historie a současně představuje nejnovější písně z aktuálního alba "Spass muss immer sein"\, díky kterému byla Vltava nominována v Cenách Anděl 2022 na Skupinu roku. Srdečně Vás zveme v pátek 8.11. od 20.00 do Club Kina. .
LOCATION:Černošice
END:VEVENT
END:VCALENDAR