BEGIN:VCALENDAR
VERSION:2.0
CALSCALE:GREGORIAN
PRODID:-//MyApp//Calendar 1.0//EN
BEGIN:VEVENT
METHOD:PUBLISH
UID:46470@regionalniportaly.cz
DTSTAMP:20260423T174948Z
DTSTART;VALUE=DATE:20241124
DTEND;VALUE=DATE:20241125
SUMMARY:Vánoční koncert sboru Boni Pueri
DESCRIPTION:Český chlapecký sbor BONI PUERI&nbsp\;byl založen v roce 1982. Patří k nejvýznamnějším evropským hudebním tělesům. Svým názvem se hlásí&nbsp\; ke sboru\, který působil od 13.&nbsp\; století při Chrámu sv. Víta\, Václava a Vojtěcha na Pražském hradě. Dvěstěčlenný sbor\, kde zpívají chlapci od 4 – 19 let\, dosud absolvoval více než 4000 samostatných koncertů po&nbsp\;Japonsku\, Kanadě\, USA\, Jižní Koreji\, Hong Kongu\, Číně a celé Evropě.&nbsp\;Boni pueri vystupují také při významných státních příležitostech a na světových sympoziích (mj. předávání státního vyznamenání Siru Nicholasi Wintonovi\, státní návštěva prezidenta SRN Joachima Gaucka\, prezidentky Jižní Koreje\, rakouského prezidenta Heinze Fischera\, čínského prezidenta Si Ťin-Pchinga nebo královny matky Bhútánského království).Boni pueri účinkovali po boku význačných umělců (José Carreras\, Bobby McFerrin\, Manfred Honeck)\, natáčejí pro televizi a rozhlas a spolupracují s význačnými soubory a orchestry po celém světě. Sbor absolvuje pravidelná profesionální koncertní turné po&nbsp\;USA&nbsp\;(St. Patrick’s Cathedral New York\,&nbsp\;Grace Cathedral San Francisco)\,&nbsp\;Kanadě&nbsp\;(Winspear Hall Edmonton)\,&nbsp\;Japonsku&nbsp\;(Tokyo Bunka Kaikan Hall\, Cathedral st. Mary Tokyo)\,&nbsp\;Jižní Koreji&nbsp\;(Seoul Arts Centre)\,&nbsp\;Ománu&nbsp\;(Royal Opera House)\,&nbsp\;Číně&nbsp\;(National Centre the for Performig Arts Beijing\, Shanghai Oriental Art Centre)\,&nbsp\;Velké Británii\, Nizozemí&nbsp\;(Concertgebouw Amsterdam\, De Doelen Rotterdam)\,&nbsp\;Dánsku\, Francii\, Itálii&nbsp\;(Basilica di S. Maria Maggiore Bergamo)\,&nbsp\;&nbsp\;Rusku&nbsp\;(Světlanovský sál\, Čajkovského síň)\,&nbsp\;Německu&nbsp\;(Meistersingerhalle Norimberk)\,&nbsp\;Rakousku&nbsp\;(Karlskirche) aj.Sbor je také zván na světové hudební festivaly (Pražské jaro&nbsp\;1994\, 1995\, 1998\, 2004\, 2005\, 2008 a 2011\,&nbsp\;Europalia&nbsp\;– Brusel 1998\,&nbsp\;AmericaFest&nbsp\;– Minneapolis 1998 a 2002\,&nbsp\;Jeonju Sori Festival– Korea 2002\,&nbsp\;Shanghai International Arts Festival&nbsp\;2010\,&nbsp\;Moskevský velikonoční festival&nbsp\;2013\,&nbsp\;Moskevský vánoční festival duchovní hudby&nbsp\;2015\,&nbsp\;Concentus Moraviae&nbsp\;2012\, 2014\, 2015\, 2016\,&nbsp\;Smetanova Litomyšl&nbsp\;2002\, 2005 – 2x\, 2009\, 2012 – 4x\, 2014)\,&nbsp\;Lípa Musica&nbsp\;2022\,&nbsp\;Svátky hudby&nbsp\;2021\, 2022. V červenci 2004 se stal historicky prvním evropským hostitelem světového festivalu chlapeckých a mužských sborů „World Festival of Singing for Men and Boys“\, jeho druhý ročník hostí i v roce 2008. Členové Boni pueri účinkovali jako&nbsp\;sólisté v operních představeních&nbsp\;(W. A. Mozart: Kouzelná flétna – Teatro dell’Opera di Roma 2004) nebo jsou zváni pro&nbsp\;sólové party&nbsp\;(A. L. Webber – Requiem).Boni pueri spolupracují s&nbsp\;Českou filharmonií\,&nbsp\;v roce 2006 otevírali sborový cyklus v pražském Rudolfinu a v roce 2007 se podíleli na koncertním provedení opery Karola Szymanowskeho Król Roger. K vrcholům sborové činnosti patří&nbsp\;provedení Matoušových pašijí J. S. Bacha s Českou studentskou filharmonií v pražském Rudolfinu&nbsp\;(sólisté M. Cukrová\, J. Březina). V roce 2010 byli také přizváni k účinkování v projektu&nbsp\;Mahler Gala&nbsp\;u příležitosti oslav výročí skladatelova narození a také k monumentálnímu provedení Mahlerovy 8. Symfonie – Symfonie tisíců pod taktovkou Christopha Eschenbacha (Praha\, Hannover\, Hamburk). Od roku 2017 se účastní prestižního muzikologického projektu&nbsp\;Češi ve Vídni&nbsp\;společnosti ArcoDiva Prague\, kdy nastudovali a provedeli&nbsp\;dílo J. V. Stamice a L. Koželuha&nbsp\;za řízení dirigenta Marka Štilce.Roku 2020 převzal nad víceletým projektem&nbsp\;„Boni pueri zpívají dílo Leopolda Hoffmanna“&nbsp\;Dominik kardinál Duka. Zpěváci provedli jeho dílo vrcholného klasicismu několikrát na prestižních hudebních festivalech v Čechách\, pravidelně ho provádějí ve Vídni.Mezi další významné hudební projekty posledních let patří např. dvojsborové nastudování&nbsp\;Matoušových pašijí (50 repríz v Holandsku)\,&nbsp\;provedení celého triptychu Responsorií J. D. Zelenky či provedení Vánočního oratoria J. S. Bacha\, Mesiáše G. F. Händela\, Requiem W. A. Mozarta a G. Faurého\, Mše D dur A. Dvořáka&nbsp\;aj.&nbsp\;Mezi další projekty patří premiérové nahrávky děl českýchbarokních autorů – J. C. F. Fischera\, P. J. Vejvanovského a J. D. Zelenky. Nahrávka Zelenkova Sub olea pacis et palma virtutis získala v roce 2003 prestižní ocenění Cannes Classical Awards\, nahrávka Brittenova A Ceremony of Carols byla v listopadu 2004 oceněna titulem Recording of the month. V repertoáru sboru jsou také scénická provedení&nbsp\;dětské terezínské opery Brundibár Hanse Krásy&nbsp\;i&nbsp\;barokní opery Henryho Purcella The Fairy Queen či Dioclesian.&nbsp\; Boni pueri se podíleli na znovuobjevení díla skladatelů&nbsp\;Jana Křtitele Vaňhala&nbsp\;nebo&nbsp\;Jana VáclavaTomáška.Sbor se věnuje také&nbsp\;současné hudbě\,&nbsp\;ve světových premiérách nastudoval a provedl unikátní 4D audiovizuální projekt&nbsp\;Hlasy světla skladatele Roberta Jíši&nbsp\;s britskou sopranistkou Christinou Johnston nebo&nbsp\;Requiem Aleše Březiny&nbsp\;s Ivou Bittovou a Vojtěchem Dykem s orchestrem Musica Florea.&nbsp\;Zároveň natáčí&nbsp\;filmovou hudbu&nbsp\;(Missing – pro hollywoodskou produkci\, Století Miroslava Zikmunda\, 3D dokumentární film Aldabra\, filmová pohádka Anděl Páně 2 apod.). Již 25 let spolupracují s vynikající českou zpěvačkou populární hudby a mnohonásobnou českou slavicí&nbsp\;Lucií Bílou a&nbsp\;klavíristou&nbsp\;Petrem Maláskem.Českému chlapeckému sboru Boni pueri byl v roce 2022 opětovně udělen titul kulturního velvyslance sborové federace při Evropské unii „AMBASSADEUR CULTUREE DE L´UNION EUROPÉENNE“.&nbsp\;Od září 2006 se stal prvním sborovým tělesem v České republice\, které zaštítila soukromá umělecká škola zařazena do rejstříku škol Ministerstva školství\, mládeže a tělovýchovy.Historie sboruPočátky chlapeckého zpěvu na Hradecku sahají až do šedesátých let minulého století\, kdy vysokoškolský učitel pan Václav Dvořák zakládá v&nbsp\;Hradci Králové chlapecký sbor\, se kterým v&nbsp\;roce 1969 vystoupí na prvním koncertě. Český chlapecký sbor Boni pueri\, který je dnes významnou složkou umělecké školy\, byl založen v&nbsp\;Hradci Králové roku 1982 Jiřím Skopalem. Zprvu působil pouze jako kroužek v&nbsp\;Domě dětí v&nbsp\;Hradci Králové\, později pracoval pod ZUŠ Habrmanova. Český chlapecký sbor Boni pueri se hlásí k odkazu svého historického jména\, neboť „Boni pueri“ je počeštělý latinský název znamenající „Dobří chlapci“. Jméno vzniklo při bazilice\, později Katedrále sv. Víta\, Václava a Vojtěcha v Praze\, kde podle historických pramenů kapitulní děkan Vít založil ve 13. století zřejmě první chlapecký pěvecký sbor v Čechách se stejným názvem.&nbsp\;
LOCATION:Velvary
END:VEVENT
END:VCALENDAR