BEGIN:VCALENDAR
VERSION:2.0
CALSCALE:GREGORIAN
PRODID:-//MyApp//Calendar 1.0//EN
BEGIN:VEVENT
METHOD:PUBLISH
UID:46858@regionalniportaly.cz
DTSTAMP:20260424T002855Z
DTSTART;VALUE=DATE:20250125
DTEND;VALUE=DATE:20250126
SUMMARY:HUDBA PRAHA
DESCRIPTION:Město Černošice Vás srdečně zve v&nbsp\;sobotu 25.ledna. od 20.00 do Club Kina na koncert skupiny Hudba Praha. Charakteristický souzvuk kytar bratří Zatloukalů\, zakládajících členů skupin Jasná Páka a Hudba Praha\, doplněný o dunivou basovou kytaru Jirky Jelínka je zárukou originálního soundu. K sestavě dále patří vokalistky Denisa Cupáková a Magdaléna Vyšohlídová\, bubeník Tomáš Stloukal\, saxofonista Jakub Douda a frontman Zdeněk Hnyk\, jehož hlas mohou fanoušci znát z vysílání pražského Radia 1. Hudba Praha hraje největší hity Jasné páky a Hudby Praha jako Zákon o zachování energie\, Špinavý záda\, Pal vocuď\, Cizej chlap\, Holka Tonka\, To tak\, Marihuana\, Máma táta\, Můry\, Lunapark a na koncertě představí i písně z&nbsp\;nového alba Barevný sny. Rokenrolu nazdar!
LOCATION:Černošice
END:VEVENT
END:VCALENDAR