BEGIN:VCALENDAR
VERSION:2.0
CALSCALE:GREGORIAN
PRODID:-//MyApp//Calendar 1.0//EN
BEGIN:VEVENT
METHOD:PUBLISH
UID:47136@regionalniportaly.cz
DTSTAMP:20260423T144217Z
DTSTART;VALUE=DATE:20241102
DTEND;VALUE=DATE:20241103
SUMMARY:Zážitkovým motoráčkem do Bohemia Sektu
DESCRIPTION:Jízda zážitkového motoráčku z Kralup nad Vltavou přes Prahu a Černošice do Starého Plzence na exkurzi a skleničku do Bohemia Sektu. \nNahlédněte do tajů výroby českých bublinek.\nNávštěva výrobního závodu Bohemia Sekt s výkladem a degustací.Degustace 5 druhů sektů s délkou cca 2 hodiny.Pohodlný odvoz po skončení zábavy a konzumace zpět.
LOCATION:Černošice
END:VEVENT
END:VCALENDAR