BEGIN:VCALENDAR
VERSION:2.0
CALSCALE:GREGORIAN
PRODID:-//MyApp//Calendar 1.0//EN
BEGIN:VEVENT
METHOD:PUBLISH
UID:47762@regionalniportaly.cz
DTSTAMP:20260423T144119Z
DTSTART;VALUE=DATE:20241105
DTEND;VALUE=DATE:20241106
SUMMARY:Koncert Cello Republic - Benešov
DESCRIPTION:V úterý 5. listopadu 2024 od 19 hodin vystoupí v Benešově v kulturním domě Karlov violoncellové kvarteto Cello Republic.
LOCATION:Benešov
END:VEVENT
END:VCALENDAR