BEGIN:VCALENDAR
VERSION:2.0
CALSCALE:GREGORIAN
PRODID:-//MyApp//Calendar 1.0//EN
BEGIN:VEVENT
METHOD:PUBLISH
UID:47803@regionalniportaly.cz
DTSTAMP:20260423T162000Z
DTSTART;VALUE=DATE:20241110
DTEND;VALUE=DATE:20241111
SUMMARY:Koncert na památku zemřelých
DESCRIPTION:Nepříliš známá\, obtížná\, nedokončená\, ale nádherná Mše c moll W. A. Mozarta pro sbor\, sóla a orchestr. Sóla sopránová zazpívají Eliška Mistrová a Klára Muknšnáblová\, altová Šárka Mistrová\, tenorová Stanislav Mistr\, basová Jan Janda\, sborové hlasy Pražští Pěvci a nástrojové party zahraje&nbsp\;Černošická komorní filharmonie pod vedením Stanislava Mistra.Koncert podpořili černošičtí občané a Středočeský kraj.&nbsp\;
LOCATION:Černošice
END:VEVENT
END:VCALENDAR