BEGIN:VCALENDAR
VERSION:2.0
CALSCALE:GREGORIAN
PRODID:-//MyApp//Calendar 1.0//EN
BEGIN:VEVENT
METHOD:PUBLISH
UID:47919@regionalniportaly.cz
DTSTAMP:20260423T174300Z
DTSTART;VALUE=DATE:20241124
DTEND;VALUE=DATE:20241125
SUMMARY:Koncert pro mír
DESCRIPTION:Zazní&nbsp\; skladby S. Prokofjeva\, A. Marcella\, A. Shepherda\, G.F. Händela a protiválečné písně ruské\, běloruské\, ukrajinské\, slovenské\, moravské\, české\, arabské a židovské. Oproti obsazení v roce 2022 s muzikanty z UA\, RF\, BLR a ČR\, kdy byl koncert v ZUŠ Černošice zakázán\, takže se konal v restauraci Jedličkovy lázně\, pan starosta Kořínek vyhrožoval strháním plakátů\, aby se po důrazném ohrazení proti takovému vandalismu spokojil s tím\, že na nich dal přelepit logo Černošic bílými štítky a koncert nebyl zveřejněn na webu města\, přibudou muzikanti ze Sýrie\, Izraele\, Anglie a USA. Bohaté hudební zážitky slibuje vynikající houslistka Daria Kassina ve spolupráci se skvělou klavíristkou Irinou Cherkashynou\, zpěvák a kytarista Václav Vislous\, tenorista\, dirigent\, skladatel a multiinstrumentalista Stanislav Mistr se svou dcerou sopranistkou a skladatelkou Eliškou a neobvyklé zpěvák a hráč na arabské nástroje Marwan Alsolaiman. Významným doplněním je Rene Trossman / Tomáš Homuta Blues Duo.Koncert podpořili občané města Černošice a Středočeský kraj\, krvelačné vedení Města Černošice naopak bude mít důvod mé koncerty nepodpořit ani příští rok. Tentokrát však už na městském webu i v časopise koncert zmíněn je. Mám prý být rád. Očividně si někteří černošičtí úředníci myslí\, že jim peníze občanů patří a mohou o nich a o službách\, za které jsou z nich placeni\, rozhodovat zcela svévolně\, včetně cenzury časopisu města. Jak je to ostatně v totalitních režimech\, kde je právo podřízené státní ideologii\, běžné.Jestli si to dáme líbit\, to je na každém z nás.&nbsp\;
LOCATION:Černošice
END:VEVENT
END:VCALENDAR