BEGIN:VCALENDAR
VERSION:2.0
CALSCALE:GREGORIAN
PRODID:-//MyApp//Calendar 1.0//EN
BEGIN:VEVENT
METHOD:PUBLISH
UID:48194@regionalniportaly.cz
DTSTAMP:20260423T180723Z
DTSTART;VALUE=DATE:20241206
DTEND;VALUE=DATE:20241207
SUMMARY:Roberta Gena Kvartet (IT\, CZ)
DESCRIPTION:Roberta Genna vystudovala jazzový zpěv na konzervatoři v Bologni ve&nbsp\;třídě vynikající Diany Torto (nahrávky a koncerty s Johnem Taylorem či Kennym Wheelerem). Dostala se do finále vícerých jazzových soutěží v&nbsp\;Itálii\, jako např. Vittoria Jazz Festival\, My Way Festival\, a získala též Vokální cenu Pippa Ardiniho. Na soutěži Chicca Bettinradiho v roce 2021 se umístila na skvělém druhém místě. Sestava\, která zpěvačku doprovodí na jejím prvním českém turné\, je více než výjimečná: zkušený pianista a kapelník Jakub Zomer\, nadaný basák Matěj Černý a stálý bubeník kapely Anety Langerové\, Martin Kopřiva.
LOCATION:Černošice
END:VEVENT
END:VCALENDAR