BEGIN:VCALENDAR
VERSION:2.0
CALSCALE:GREGORIAN
PRODID:-//MyApp//Calendar 1.0//EN
BEGIN:VEVENT
METHOD:PUBLISH
UID:48268@regionalniportaly.cz
DTSTAMP:20260423T205945Z
DTSTART;VALUE=DATE:20241221
DTEND;VALUE=DATE:20241222
SUMMARY:JeNaČase zazpívat si Hegerku!
DESCRIPTION:Barbora Vlasáková (Valentová) - herečka\, zpěvačka\, improvizátorka\, autorka písní a knih. Vystudovala Pražskou konzervatoř obor hudebně-dramatický a následně byla 11 let členkou souboru Divadla pod Palmovkou\, kde ztvárnila mnoho různorodých rolí. Z filmové tvorby lze zmínit např. spolupráci s Tomášem Vorlem (Skřítek- 2005)\, dlouhodobou spolupráci s ČT při namlouvání dokumentárních filmů a při dalších televizních projektech.Věnuje se autorské hudební tvorbě. Vydala dvě CD s vlastními písněmi -SebeŽít( 2016) a JeNaČase (2021) ve spolupráci s Janem Vlasákem (Vivian). Skládá písně\, píše knížky a žije s rodinou u řeky Berounky.Tomáš Vrtek - klavírista.Hudbě se věnuje od svých sedmi let\, kdy začal hrát na klavír. Má za sebou studia na brněnském uměleckém gymnáziu Pavla Křížkovského\, filozofickou fakultu Masarykovy univerzity obor hudební věda a nyní studuje katedru jazzu na brněnské JAMU.Jazz\, kterým se začal intenzivně zabývat už během střední školy\, je tedy oblastí\, kde se cítí jako doma. Zabývá se nicméně i jinými styly\, jako je latinskoamerická hudba (hlavně kubánská a brazilská) a příležitostně i popem a šansonem.
LOCATION:Černošice
END:VEVENT
END:VCALENDAR