BEGIN:VCALENDAR
VERSION:2.0
CALSCALE:GREGORIAN
PRODID:-//MyApp//Calendar 1.0//EN
BEGIN:VEVENT
METHOD:PUBLISH
UID:48600@regionalniportaly.cz
DTSTAMP:20260423T211854Z
DTSTART;VALUE=DATE:20241219
DTEND;VALUE=DATE:20241220
SUMMARY:Studentská akademie GBL 2024\, odpolední představení
DESCRIPTION:Jako každý rok Vás letošní 3. A a septima srdečně zve na vánoční Akademii.Letošním tématem je Filmová noc\, můžete se těšit na spoustu nových podání mnoha&nbsp\;různých filmů!Vezmeme to od Rebelů až po Harryho Pottera.&nbsp\;Akademie bude plná tance\, hereckých vystoupení\, smíchu a připomeneme si i filmy\,&nbsp\;na které si vzpomenete možná jen matně. Na konci představení proběhne hlasování o Nejlepší výkon\, vítězná třída bude odměněna soškou Oscara.Akademie se bude konat 19. 12. 2024 v brandýském kině od 16:00 a druhépředstavení od 19:00.Moc se na Vás těšíme!
LOCATION:Brandýs nad Labem-Stará Boleslav
END:VEVENT
END:VCALENDAR