BEGIN:VCALENDAR
VERSION:2.0
CALSCALE:GREGORIAN
PRODID:-//MyApp//Calendar 1.0//EN
BEGIN:VEVENT
METHOD:PUBLISH
UID:48620@regionalniportaly.cz
DTSTAMP:20260423T180350Z
DTSTART;VALUE=DATE:20241205
DTEND;VALUE=DATE:20241206
SUMMARY:Taneční konzervatoř hl. m. Prahy: Dance session
DESCRIPTION:Taneční konzervatoř hlavního města Prahy uvádí Dance session: Exploze energie a pohybu. Nadaní studenti Taneční konzervatoře hlavního města Prahy vás zavedou do světa tance a hudby. Očekávat můžete velmi pestrý večer složený z ukázek klasického i současného tance. Těšíme se na vás!
LOCATION:Slaný
END:VEVENT
END:VCALENDAR